BEGIN:VCALENDAR
VERSION:2.0
PRODID:-//eventon.com NONSGML v1.0//EN
CALSCALE:GREGORIAN
METHOD:PUBLISH
BEGIN:VEVENT
UID:69e5fccc38e87
DTSTAMP:20260420T101540Z
DTSTART:20251105T093000Z
DTEND:20251105T103000Z
LOCATION:
SUMMARY:Kerkdienst // Dankdag voor gewas en arbeid
DESCRIPTION:Kerkdienst // Dankdag voor gewas en arbeid\nhttps://pknschoonoo
 rd.nl/events/kerkdienst-dankdag-voor-gewas-en-arbeid/var/event_access
URL:https://pknschoonoord.nl/events/kerkdienst-dankdag-voor-gewas-en-arbeid/var/event_access
END:VEVENT
END:VCALENDAR